BEGIN:VCALENDAR
VERSION:2.0
CALSCALE:GREGORIAN
PRODID:adamgibbons/ics
METHOD:PUBLISH
X-PUBLISHED-TTL:PT1H
BEGIN:VEVENT
UID:72@gancio.pl
SUMMARY:Planszówki w Akceleratorze
DTSTAMP:20260423T053118Z
DTSTART:20260425T123000Z
DTEND:20260425T183000Z
URL:https://gancio.pl/event/planszowki-w-akceleratorze
GEO:51.757647052431;18.08427981143
LOCATION:Akcelerator Kultury - Nowy Świat 2a\, 62-800 Kalisz\, Poland
STATUS:CONFIRMED
CATEGORIES:
END:VEVENT
END:VCALENDAR
