BEGIN:VCALENDAR
VERSION:2.0
CALSCALE:GREGORIAN
PRODID:adamgibbons/ics
METHOD:PUBLISH
X-PUBLISHED-TTL:PT1H
BEGIN:VEVENT
UID:68@gancio.pl
SUMMARY:Traidora / Deathknell - Punk Transfeminista Express
DTSTAMP:20260422T134325Z
DTSTART:20260607T170000Z
DTEND:20260607T210000Z
URL:https://gancio.pl/event/traidora-deathknell-punk-transfeminista-express
GEO:52.2377222;21.0297243
LOCATION:Klubojadalnia Młodsza Siostra - 14/16\, Dobra\, Powiśle-Skarpa\, P
	owiśle\, Śródmieście\, Warszawa\, województwo mazowieckie\, 00-388\, Polsk
	a
STATUS:CONFIRMED
CATEGORIES:hardcore punk,powerviolence
END:VEVENT
END:VCALENDAR
