BEGIN:VCALENDAR
VERSION:2.0
CALSCALE:GREGORIAN
PRODID:adamgibbons/ics
METHOD:PUBLISH
X-PUBLISHED-TTL:PT1H
BEGIN:VEVENT
UID:65@gancio.pl
SUMMARY:Zaklęta w druku historia Torunia w zbiorach specjalnych Książnicy K
	opernikańskiej - wykład online
DTSTAMP:20260421T074031Z
DTSTART:20260422T150000Z
DTEND:20260422T160000Z
URL:https://gancio.pl/event/zakleta-w-druku-historia-torunia-w-zbiorach-spe
	cjalnych-ksiaznicy-kopernikanskiej-wyklad-online
GEO:53.01432;18.612
LOCATION:ul. gen. J. H. Dąbrowskiego 4 - ulica gen. Jana H. Dąbrowskiego 4\
	, 87-100 Toruń\, Polska
STATUS:CONFIRMED
CATEGORIES:
END:VEVENT
END:VCALENDAR
