BEGIN:VCALENDAR
VERSION:2.0
CALSCALE:GREGORIAN
PRODID:adamgibbons/ics
METHOD:PUBLISH
X-PUBLISHED-TTL:PT1H
BEGIN:VEVENT
UID:66@gancio.pl
SUMMARY:Spotkanie z poezją Elżbiety Białas
DTSTAMP:20260422T034655Z
DTSTART:20260423T150000Z
DTEND:20260423T160000Z
DESCRIPTION:🌸 Spotkanie z poezją Elżbiety Białas 🌸\n\nZapraszamy na wyjątko
	we\, pełne emocji spotkanie z poezją pt. „Miłośnie o\nwiośnie” 💖🌷\n\n📅 23 
	kwietnia\n🕔 godz. 17:00\n📍 Biblioteka Rubinkowo\, ul. Łyskowskiego 29/35\n
	\nPodczas wydarzenia Elżbieta Białas – poetka i wielbicielka Mazowsza oraz
	 Torunia\n– zaprezentuje swoje najnowsze wiersze\, w których króluje wiosn
	a i miłość 🌿✨\n\n🎶 Oprawę muzyczną zapewni Zespół GMG\, tworząc niepowtarz
	alny klimat tego\nwieczoru.\n\nPrzyjdźcie\, by wspólnie zanurzyć się w świ
	ecie poezji i wiosennych emocji 🌼\nCzekamy na Was!\n\n\nOrganisé par Bibli
	oteka Rubinkowo\n[https://www.facebook.com/people/Biblioteka-Rubinkowo/615
	75565329893/]
URL:https://gancio.pl/event/spotkanie-z-poezja-elzbiety-bialas
GEO:53.02797;18.65751
LOCATION:Łyskowskiego 29/35 - ulica Ignacego Łyskowskiego 29\, 87-100 Toruń
	\, Polska
STATUS:CONFIRMED
CATEGORIES:
X-ALT-DESC;FMTTYPE=text/html:🌸 Spotkanie z poezją Elżbiety Białas 🌸<br><br>
	Zapraszamy na wyjątkowe, pełne emocji spotkanie z poezją pt. „Miłośnie o w
	iośnie” 💖🌷<br><br>📅 23 kwietnia<br>🕔 godz. 17:00<br>📍 Biblioteka Rubinkowo
	, ul. Łyskowskiego 29/35<br><br>Podczas wydarzenia Elżbieta Białas – poetk
	a i wielbicielka Mazowsza oraz Torunia – zaprezentuje swoje najnowsze wier
	sze, w których króluje wiosna i miłość 🌿✨<br><br>🎶 Oprawę muzyczną zapewni
	 Zespół GMG, tworząc niepowtarzalny klimat tego wieczoru.<br><br>Przyjdźci
	e, by wspólnie zanurzyć się w świecie poezji i wiosennych emocji 🌼<br>Czek
	amy na Was!<br><p>Organisé par <a href="https://www.facebook.com/people/Bi
	blioteka-Rubinkowo/61575565329893/">Biblioteka Rubinkowo</a></p>
BEGIN:VALARM
ACTION:DISPLAY
DESCRIPTION:Spotkanie z poezją Elżbiety Białas
TRIGGER:-PT1H
END:VALARM
END:VEVENT
END:VCALENDAR
