BEGIN:VCALENDAR
VERSION:2.0
CALSCALE:GREGORIAN
PRODID:adamgibbons/ics
METHOD:PUBLISH
X-PUBLISHED-TTL:PT1H
BEGIN:VEVENT
UID:71@gancio.pl
SUMMARY:Kuchnia społeczna - benefit na SOS
DTSTAMP:20260423T010717Z
DTSTART:20260426T140000Z
DTEND:20260426T160000Z
DESCRIPTION:Kuchnia społeczna na Stowarzyszenie Osób Studenckich\, czyli sz
	czecińskie koło\nmłodych Inicjatywy Pracowniczej na Akademii Sztuki w Szcz
	ecinie. Podczas\nwspólnej wegańskiej uczty dowiemy się z jakimi problemami
	 zmagają się osoby\nstudenckie i jak można je wesprzeć.\n\nKuchnia społecz
	na to inicjatywa podczas której każda osoba może przynieść\nprzygotowany p
	rzez siebie wegański posiłek i zjeść go wspólnie\, poznając się i\ndyskutu
	jąc. Jeżeli nie jesteś w stanie przygotować wcześniej posiłku\, możesz\npr
	zyjść\, zapłacić 30 zł na benefitowy cel i dołączyć do wspólnego stołu.\n\
	nNapoje będzie można nabyć na barze.\n\nProsimy o przyniesienie swoich szt
	ućców i talerzyków/miseczek - wszystkie dania\nwystawione będą na jeden st
	ół tak\, aby każdy mógł ich spróbować. Warto też więc\n- jeśli przyniesie 
	się jedzenie - zadbać o odpowiedni sprzęt do nakładania go.\nPodpisanie da
	nia\, wypisanie na kartce składników\, albo chociaż alergenów -\nrównież m
	ile widziane. Na miejscu nie ma możliwości podgrzania posiłków.\n\nUwaga! 
	Prosimy\, żeby były to wyłącznie posiłki nie zawierające mięsa (w tym ryb)
	\nani żadnych składników odzwierzęcych tj. mleka i jego przetworów\, niekt
	órych\nmargaryn (zawierają tłuszcze zwierzęce)\, jajek\, miodu\, żelatyny 
	i laktozy.\n\nPodsumowując: Kiedy: 26.04.2026r. Godz. 16.00 Gdzie: Piwnica
	 Kany (pl. Św.\nPiotra i Pawła 4/5) Wstęp: Wegańska potrawa lub 30 zł zasi
	lające szczytny cel\nZapraszamy!
URL:https://gancio.pl/event/kuchnia-spoleczna-benefit-na-sos
GEO:53.4278737;14.5596086
LOCATION:Piwnica Kany - Plac Świętych Piotra i Pawła\, Szczecin\, województ
	wo zachodniopomorskie\, Polska
STATUS:CONFIRMED
CATEGORIES:Weganizm,Szczecin
X-ALT-DESC;FMTTYPE=text/html:<p>Kuchnia społeczna na Stowarzyszenie Osób St
	udenckich, czyli szczecińskie koło młodych Inicjatywy Pracowniczej na Akad
	emii Sztuki w Szczecinie. Podczas wspólnej wegańskiej uczty dowiemy się z 
	jakimi problemami zmagają się osoby studenckie i jak można je wesprzeć.</p
	><p>Kuchnia społeczna to inicjatywa podczas której każda osoba może przyni
	eść przygotowany przez siebie wegański posiłek i zjeść go wspólnie, poznaj
	ąc się i dyskutując. Jeżeli nie jesteś w stanie przygotować wcześniej posi
	łku, możesz przyjść, zapłacić 30 zł na benefitowy cel i dołączyć do wspóln
	ego stołu.</p><p>Napoje będzie można nabyć na barze.</p><p>Prosimy o przyn
	iesienie swoich sztućców i talerzyków/miseczek - wszystkie dania wystawion
	e będą na jeden stół tak, aby każdy mógł ich spróbować. Warto też więc - j
	eśli przyniesie się jedzenie - zadbać o odpowiedni sprzęt do nakładania go
	. Podpisanie dania, wypisanie na kartce składników, albo chociaż alergenów
	 - również mile widziane. Na miejscu nie ma możliwości podgrzania posiłków
	.</p><p>Uwaga! Prosimy, żeby były to wyłącznie posiłki nie zawierające mię
	sa (w tym ryb) ani żadnych składników odzwierzęcych tj. mleka i jego przet
	worów, niektórych margaryn (zawierają tłuszcze zwierzęce), jajek, miodu, ż
	elatyny i laktozy.</p><p>Podsumowując: Kiedy: 26.04.2026r. Godz. 16.00 Gdz
	ie: Piwnica Kany (pl. Św. Piotra i Pawła 4/5) Wstęp: Wegańska potrawa lub 
	30 zł zasilające szczytny cel Zapraszamy!</p>
BEGIN:VALARM
ACTION:DISPLAY
DESCRIPTION:Kuchnia społeczna - benefit na SOS
TRIGGER:-PT1H
END:VALARM
END:VEVENT
END:VCALENDAR
