BEGIN:VCALENDAR
VERSION:2.0
CALSCALE:GREGORIAN
PRODID:adamgibbons/ics
METHOD:PUBLISH
X-PUBLISHED-TTL:PT1H
BEGIN:VEVENT
UID:67@gancio.pl
SUMMARY:Dyskusyjny Klub Komiksu
DTSTAMP:20260422T035434Z
DTSTART:20260423T153000Z
DESCRIPTION:Zapraszamy na kolejne spotkanie Dyskusyjnego Klubu Komiksu. Roz
	mawiamy czasem\nbardzo poważnie\, a czasem nieco mniej poważnie\, o całej 
	okołokomiksowej\npopkulturze.\n\nInteresują nas komiksy polskie i zagranic
	zne\, superbohaterskie i niezależne\, z\nczasów PRL i współczesne. Dzielim
	y się ulubionymi tytułami i autorami\, podsuwamy\nsobie nowości. Zdarza si
	ę\, że zahaczamy w dyskusji o filmy lub gry na podstawie\nkomiksów 🤯\n\nPr
	zy okazji można też skorzystać z bogatych zbiorów Mediateki - na miejscu l
	ub\ndo domu (do tego ostatniego będzie potrzebna karta biblioteczna 🪪).\n\
	n\nOrganisé par :\n\n * Mediateka w Młynach [https://www.facebook.com/medi
	atekawmlynach]\n * Książnica Kopernikańska w Toruniu\n   [https://www.face
	book.com/KsiaznicaKopernikanska]\n\n
URL:https://gancio.pl/event/dyskusyjny-klub-komiksu
GEO:53.02531;18.62765
LOCATION:ul. Kościuszki 77 - ulica Tadeusza Kościuszki 77\, 87-100 Toruń\, 
	Polska
STATUS:CONFIRMED
CATEGORIES:
X-ALT-DESC;FMTTYPE=text/html:Zapraszamy na kolejne spotkanie Dyskusyjnego K
	lubu Komiksu. Rozmawiamy czasem bardzo poważnie, a czasem nieco mniej powa
	żnie, o całej okołokomiksowej popkulturze. <br><br>Interesują nas komiksy 
	polskie i zagraniczne, superbohaterskie i niezależne, z czasów PRL i współ
	czesne. Dzielimy się ulubionymi tytułami i autorami, podsuwamy sobie nowoś
	ci. Zdarza się, że zahaczamy w dyskusji o filmy lub gry na podstawie komik
	sów 🤯<br><br>Przy okazji można też skorzystać z bogatych zbiorów Mediateki
	 - na miejscu lub do domu (do tego ostatniego będzie potrzebna karta bibli
	oteczna 🪪).<br><p>Organisé par : </p><ul><li><a href="https://www.facebook
	.com/mediatekawmlynach">Mediateka w Młynach</a></li><li><a href="https://w
	ww.facebook.com/KsiaznicaKopernikanska">Książnica Kopernikańska w Toruniu<
	/a></li></ul><p></p>
BEGIN:VALARM
ACTION:DISPLAY
DESCRIPTION:Dyskusyjny Klub Komiksu
TRIGGER:-PT1H
END:VALARM
END:VEVENT
END:VCALENDAR
