BEGIN:VCALENDAR
VERSION:2.0
CALSCALE:GREGORIAN
PRODID:adamgibbons/ics
METHOD:PUBLISH
X-PUBLISHED-TTL:PT1H
BEGIN:VEVENT
UID:73@gancio.pl
SUMMARY:24. Toruński Festiwal Nauki i Sztuki
DTSTAMP:20260423T034941Z
DTSTART:20260424T160000Z
DTEND:20260427T183000Z
DESCRIPTION:🎉 24–27 kwietnia 2026 zapraszamy na 24. Toruński Festiwal Nauki
	 i Sztuki!\n\n💪 Po raz 24. Toruński Festiwal Nauki i Sztuki zamieni Toruń 
	w przestrzeń\nspotkań z nauką i sztuką – otwartą\, inspirującą i dostępną 
	dla wszystkich.\nBadacze i badaczki\, artyści i artystki\, studenci i stud
	entki oraz pracownicy i\npracowniczki Uniwersytet Mikołaja Kopernika w Tor
	uniu\, a także przedstawiciele\nlokalnych instytucji kultury i nauki\, pon
	ownie pokażą\, czym żyją na co dzień ich\nlaboratoria\, pracownie i sceny.
	\n\n📚 W programie tegorocznej edycji znajdzie się ponad 150 wydarzeń w 21 
	blokach\ntematycznych. Szykujemy wykłady\, warsztaty\, pokazy\, wystawy\, 
	spotkania\,\nwycieczki\, gry miejskie i wiele innych atrakcji – będzie moż
	na zajrzeć tam\,\ngdzie zwykle wstęp mają tylko wtajemniczeni.\n\n👉 Sprawd
	ź program 🔗https://www.festiwal.torun.pl/program\n[https://www.festiwal.to
	run.pl/program]\n📅 Rejestracja na wydarzenia rozpocznie się w poniedziałek
	 13 kwietnia od godz.\n12:00\n\n🟨 Hasłem 24. edycji jest CIĄGŁOŚĆ I ZMIANA
	.\nChcemy przyjrzeć się temu\, co w nauce i sztuce trwa – ideom\, wartości
	om\, metodom\n– oraz temu\, co ulega przeobrażeniom pod wpływem nowych odk
	ryć\, technologii i\nspołecznych wyzwań. Będziemy rozmawiać o procesach\, 
	które łączą przeszłość z\nprzyszłością\, o ewolucji myśli i przełomach\, k
	tóre wyrastają z tego\, co było\nwcześniej.\n\n🌍 Warto podkreślić\, że 202
	6 rok jest Rokiem Popularyzacji Nauki – a my\ndoskonale wpisujemy się w tę
	 ideę. Od lat pokazujemy\, że nauka i sztuka mogą być\nbliskie\, zrozumiał
	e i fascynujące dla każdego – niezależnie od wieku czy\ndoświadczenia.\n\n
	🎟️ Udział w festiwalowych wydarzeniach\, jak co roku\, będzie bezpłatny.\n\
	nJuż wkrótce podzielimy się kolejnymi szczegółami i odsłonimy więcej punkt
	ów\nprogramu. Śledźcie nas uważnie – 24. Toruński Festiwal Nauki i Sztuki 
	zapowiada\nsię naprawdę wyjątkowo!\n\nOrganizatorzy:\n🔵 Uniwersytet Mikoła
	ja Kopernika w Toruniu\n🟢 Urząd Miasta Torunia\n🟠 Towarzystwo Naukowe w To
	runiu\n\n🟨 #TFNiS2026 [https://wydarzenia.phub.pl/tag/tfnis2026] 🟩 #TFNiS\
	n[https://wydarzenia.phub.pl/tag/tfnis]\n\n\nOrganisé par :\n\n * Toruński
	 Festiwal Nauki i Sztuki [https://www.facebook.com/TFNiS]\n * Szkoła Leśna
	 na Barbarce [https://www.facebook.com/szkola.lesna.na.barbarce]\n\n
URL:https://gancio.pl/event/24-torunski-festiwal-nauki-i-sztuki
GEO:53.016666666667;18.616666666667
LOCATION:Toruń - ulica Przy Kaszowniku 41A\, 87-100 Toruń\, Polska
STATUS:CONFIRMED
CATEGORIES:tfnis,tfnis2026
X-ALT-DESC;FMTTYPE=text/html:🎉 24–27 kwietnia 2026 zapraszamy na 24. Toruńs
	ki Festiwal Nauki i Sztuki!<br> <br>💪 Po raz 24. Toruński Festiwal Nauki i
	 Sztuki zamieni Toruń w przestrzeń spotkań z nauką i sztuką – otwartą, ins
	pirującą i dostępną dla wszystkich.<br>Badacze i badaczki, artyści i artys
	tki, studenci i studentki oraz pracownicy i pracowniczki Uniwersytet Mikoł
	aja Kopernika w Toruniu, a także przedstawiciele lokalnych instytucji kult
	ury i nauki, ponownie pokażą, czym żyją na co dzień ich laboratoria, praco
	wnie i sceny.<br> <br>📚 W programie tegorocznej edycji znajdzie się ponad 
	150 wydarzeń w 21 blokach tematycznych. Szykujemy wykłady, warsztaty, poka
	zy, wystawy, spotkania, wycieczki, gry miejskie i wiele innych atrakcji – 
	będzie można zajrzeć tam, gdzie zwykle wstęp mają tylko wtajemniczeni.<br>
	<br>👉 Sprawdź program 🔗<a target="_blank" href="https://www.festiwal.torun
	.pl/program">https://www.festiwal.torun.pl/program</a><br>📅 Rejestracja na
	 wydarzenia rozpocznie się w poniedziałek 13 kwietnia od godz. 12:00<br> <
	br>🟨 Hasłem 24. edycji jest CIĄGŁOŚĆ I ZMIANA.<br>Chcemy przyjrzeć się tem
	u, co w nauce i sztuce trwa – ideom, wartościom, metodom – oraz temu, co u
	lega przeobrażeniom pod wpływem nowych odkryć, technologii i społecznych w
	yzwań. Będziemy rozmawiać o procesach, które łączą przeszłość z przyszłośc
	ią, o ewolucji myśli i przełomach, które wyrastają z tego, co było wcześni
	ej.<br> <br>🌍 Warto podkreślić, że 2026 rok jest Rokiem Popularyzacji Nauk
	i – a my doskonale wpisujemy się w tę ideę. Od lat pokazujemy, że nauka i 
	sztuka mogą być bliskie, zrozumiałe i fascynujące dla każdego – niezależni
	e od wieku czy doświadczenia.<br> <br>🎟️ Udział w festiwalowych wydarzeniac
	h, jak co roku, będzie bezpłatny.<br> <br>Już wkrótce podzielimy się kolej
	nymi szczegółami i odsłonimy więcej punktów programu. Śledźcie nas uważnie
	 – 24. Toruński Festiwal Nauki i Sztuki zapowiada się naprawdę wyjątkowo!<
	br><br>Organizatorzy:<br>🔵 Uniwersytet Mikołaja Kopernika w Toruniu<br>🟢 U
	rząd Miasta Torunia<br>🟠 Towarzystwo Naukowe w Toruniu<br> <br>🟨 <a href="
	https://wydarzenia.phub.pl/tag/tfnis2026" data-tag="tfnis2026">#TFNiS2026<
	/a> 🟩 <a href="https://wydarzenia.phub.pl/tag/tfnis" data-tag="tfnis">#TFN
	iS</a><br><p>Organisé par : </p><ul><li><a href="https://www.facebook.com/
	TFNiS">Toruński Festiwal Nauki i Sztuki</a></li><li><a href="https://www.f
	acebook.com/szkola.lesna.na.barbarce">Szkoła Leśna na Barbarce</a></li></u
	l><p></p>
BEGIN:VALARM
ACTION:DISPLAY
DESCRIPTION:24. Toruński Festiwal Nauki i Sztuki
TRIGGER:-PT1H
END:VALARM
END:VEVENT
END:VCALENDAR
